BEGIN:VCALENDAR
VERSION:2.0
PRODID:-//BETTER THAN SILENCE - ECPv6.15.20//NONSGML v1.0//EN
CALSCALE:GREGORIAN
METHOD:PUBLISH
X-ORIGINAL-URL:https://betterthansilence.de/radio
X-WR-CALDESC:Veranstaltungen für BETTER THAN SILENCE
REFRESH-INTERVAL;VALUE=DURATION:PT1H
X-Robots-Tag:noindex
X-PUBLISHED-TTL:PT1H
BEGIN:VTIMEZONE
TZID:Europe/Berlin
BEGIN:DAYLIGHT
TZOFFSETFROM:+0100
TZOFFSETTO:+0200
TZNAME:CEST
DTSTART:20250330T010000
END:DAYLIGHT
BEGIN:STANDARD
TZOFFSETFROM:+0200
TZOFFSETTO:+0100
TZNAME:CET
DTSTART:20251026T010000
END:STANDARD
BEGIN:DAYLIGHT
TZOFFSETFROM:+0100
TZOFFSETTO:+0200
TZNAME:CEST
DTSTART:20260329T010000
END:DAYLIGHT
BEGIN:STANDARD
TZOFFSETFROM:+0200
TZOFFSETTO:+0100
TZNAME:CET
DTSTART:20261025T010000
END:STANDARD
BEGIN:DAYLIGHT
TZOFFSETFROM:+0100
TZOFFSETTO:+0200
TZNAME:CEST
DTSTART:20270328T010000
END:DAYLIGHT
BEGIN:STANDARD
TZOFFSETFROM:+0200
TZOFFSETTO:+0100
TZNAME:CET
DTSTART:20271031T010000
END:STANDARD
END:VTIMEZONE
BEGIN:VEVENT
DTSTART;VALUE=DATE:20260221
DTEND;VALUE=DATE:20260222
DTSTAMP:20260421T114434
CREATED:20260201T153013Z
LAST-MODIFIED:20260201T154145Z
UID:739-1771632000-1771718399@betterthansilence.de
SUMMARY:Dead End Kids\, Das Aus der Jugend\, ...
DESCRIPTION:
URL:https://betterthansilence.de/radio/event/dead-end-kids-das-aus-der-jugend/
LOCATION:Nexus BS\, Frankfurter Str. 253b\, Braunschweig\, 38122\, Germany
CATEGORIES:Konzerte
ATTACH;FMTTYPE=image/jpeg:https://betterthansilence.de/radio/wp-content/uploads/2026/02/dead-end.jpg
END:VEVENT
END:VCALENDAR